BEGIN:VCALENDAR
METHOD:PUBLISH
VERSION:2.0
PRODID:-//hacksw/handcal//NONSGML v1.0//EN
X-WR-TIMEZONE:Australia/Melbourne
CALSCALE:GREGORIAN
BEGIN:VEVENT
DTSTART;TZID=Australia/Melbourne:20260505T190000
DTEND;TZID=Australia/Melbourne:20260505T210000
UID:886604578069B106448B3A1839298274069B106448B3B3004167605106392549
DTSTAMP:20260422T035444
LOCATION:Clubrooms: 96-150 Breakwater Rd, Breakwater, Victoria, 3219
DESCRIPTION:The Club Shop is open at Monthly Member Nights. The contact is
  Rod Dorman on 0403 312 695 or regalia@mgccgeelong.com.au
URL;VALUE=URI:http://mgccgeelong.com.au/events/view.php?id=886604578069B10
 6448B3A1839298274069B106448B3B3004167605106392549
SUMMARY:Club Shop (Regalia)
END:VEVENT
END:VCALENDAR
