BEGIN:VCALENDAR
METHOD:PUBLISH
VERSION:2.0
PRODID:-//hacksw/handcal//NONSGML v1.0//EN
X-WR-TIMEZONE:Australia/Melbourne
CALSCALE:GREGORIAN
BEGIN:VEVENT
DTSTART;TZID=Australia/Melbourne:20260505T190000
DTEND;TZID=Australia/Melbourne:20260505T210000
UID:88574218706996B4D635F5F653465763159433593666996B4D635F7271074864
DTSTAMP:20260422T163157
LOCATION:Clubrooms: 96-150 Breakwater Rd, Breakwater, Victoria, 3219
DESCRIPTION:Presentation of Awards during the Monthly Member Meeting.
URL;VALUE=URI:http://mgccgeelong.com.au/events/view.php?id=88574218706996B
 4D635F5F653465763159433593666996B4D635F7271074864
SUMMARY:Presentation of Awards
END:VEVENT
END:VCALENDAR
